BEGIN:VCALENDAR
VERSION:2.0
PRODID:-//Confservizi Nord Ovest - ECPv4.6.26.1//NONSGML v1.0//EN
CALSCALE:GREGORIAN
METHOD:PUBLISH
X-WR-CALNAME:Confservizi Nord Ovest
X-ORIGINAL-URL:https://www.confservizi.piemonte.it
X-WR-CALDESC:Eventi per Confservizi Nord Ovest
BEGIN:VEVENT
DTSTART;TZID=Europe/Rome:20240314T090000
DTEND;TZID=Europe/Rome:20240314T130000
DTSTAMP:20260421T133250
CREATED:20240228T150805Z
LAST-MODIFIED:20240313T162200Z
UID:12860-1710406800-1710421200@www.confservizi.piemonte.it
SUMMARY:Incontro formativo | Il Metodo Tariffario Idrico per il quarto periodo regolatorio (MTI-4)
DESCRIPTION:DESTINATARI\nAmministratori – Top management – Responsabile amministrativo\n  \nOBIETTIVI \nCon la Delibera 639/2023/R/idr l’Autorità di Regolazione per Energia Reti e Ambiente ha pubblicato il Metodo Tariffario Idrico per il quarto periodo regolatorio 2024-2029 (MTI-4).\nIl corso si pone l’obiettivo di illustrare il sistema tariffario previsto dall’ARERA\, con focus sulle novità introdotte per il nuovo periodo regolatorio volte a promuovere una migliore efficienza gestionale e sostenibilità energetica e ambientale.\n  \nPROGRAMMA \n
URL:https://www.confservizi.piemonte.it/corso/incontro-formativo-il-metodo-tariffario-idrico-per-il-quarto-periodo-regolatorio-mti-4/
LOCATION:Confservizi Nord Ovest (modalità Videoconferenza)
END:VEVENT
END:VCALENDAR