BEGIN:VCALENDAR
VERSION:2.0
PRODID:-//Confservizi Nord Ovest - ECPv4.6.26.1//NONSGML v1.0//EN
CALSCALE:GREGORIAN
METHOD:PUBLISH
X-WR-CALNAME:Confservizi Nord Ovest
X-ORIGINAL-URL:https://www.confservizi.piemonte.it
X-WR-CALDESC:Eventi per Confservizi Nord Ovest
BEGIN:VEVENT
DTSTART;TZID=Europe/Rome:20260421T090000
DTEND;TZID=Europe/Rome:20260421T130000
DTSTAMP:20260419T160702
CREATED:20260413T095126Z
LAST-MODIFIED:20260413T100452Z
UID:17207-1776762000-1776776400@www.confservizi.piemonte.it
SUMMARY:Incontro formativo | Aggiornamento biennale Metodo Tariffario Idrico MTI-4 (Delibera 582/2025/R/Idr)
DESCRIPTION:Destinatari\n\n\nResponsabili amministrativi\, finanziari e di bilancio dei gestori del Servizio Idrico Integrato\n\n\nAddetti alla regolazione tariffaria e affari regolatori\n\n\nPersonale di controllo di gestione e pianificazione economico-finanziaria\n\n\nObiettivi\nConoscere le novità del metodo tariffario per l’aggiornamento biennale e comprendere le leve tariffarie a disposizione dei gestori.\n\n  \nProgramma \n
URL:https://www.confservizi.piemonte.it/corso/incontro-formativo-aggiornamento-biennale-metodo-tariffario-idrico-mti-4-delibera-582-2025-r-idr/
LOCATION:Confservizi Nord Ovest (modalità Videoconferenza)
END:VEVENT
END:VCALENDAR